BEGIN:VCALENDAR
VERSION:2.0
PRODID:-//Agrinnovators - ECPv6.15.20//NONSGML v1.0//EN
CALSCALE:GREGORIAN
METHOD:PUBLISH
X-ORIGINAL-URL:https://agrinnovators.org
X-WR-CALDESC:Events for Agrinnovators
REFRESH-INTERVAL;VALUE=DURATION:PT1H
X-Robots-Tag:noindex
X-PUBLISHED-TTL:PT1H
BEGIN:VTIMEZONE
TZID:Europe/Brussels
BEGIN:DAYLIGHT
TZOFFSETFROM:+0100
TZOFFSETTO:+0200
TZNAME:CEST
DTSTART:20250330T010000
END:DAYLIGHT
BEGIN:STANDARD
TZOFFSETFROM:+0200
TZOFFSETTO:+0100
TZNAME:CET
DTSTART:20251026T010000
END:STANDARD
BEGIN:DAYLIGHT
TZOFFSETFROM:+0100
TZOFFSETTO:+0200
TZNAME:CEST
DTSTART:20260329T010000
END:DAYLIGHT
BEGIN:STANDARD
TZOFFSETFROM:+0200
TZOFFSETTO:+0100
TZNAME:CET
DTSTART:20261025T010000
END:STANDARD
BEGIN:DAYLIGHT
TZOFFSETFROM:+0100
TZOFFSETTO:+0200
TZNAME:CEST
DTSTART:20270328T010000
END:DAYLIGHT
BEGIN:STANDARD
TZOFFSETFROM:+0200
TZOFFSETTO:+0100
TZNAME:CET
DTSTART:20271031T010000
END:STANDARD
END:VTIMEZONE
BEGIN:VEVENT
DTSTART;TZID=Europe/Brussels:20260317T110000
DTEND;TZID=Europe/Brussels:20260317T123000
DTSTAMP:20260420T091644
CREATED:20260128T121410Z
LAST-MODIFIED:20260203T124507Z
UID:10000118-1773745200-1773750600@agrinnovators.org
SUMMARY:Navigating EU policies\, regulations and standards with potential impacts on F&V value chains
DESCRIPTION:OECD-COLEAD Fruit and Vegetable Industry Serie N°12 \nTopic: Navigating EU policies\, regulations and standards with potential impacts on fruit and vegetable value chains \nDate: Tuesday 17 March 2026 – 10:00-11:30 UTC / 11:00-12:30 CET – online (Zoom) \nRegistration: https://coleacp-org.zoom.us/webinar/register/WN_Hle89L_iRQCPvBna7LsU2A
URL:https://agrinnovators.org/event/oecd-colead-fruit-and-vegetable-industry-series-n-12/
ATTACH;FMTTYPE=image/jpeg:https://agrinnovators.org/wp-content/uploads/2026/01/OECD-COLEAD-Branding-1-scaled-1.jpg
END:VEVENT
BEGIN:VEVENT
DTSTART;TZID=Europe/Brussels:20260324T130000
DTEND;TZID=Europe/Brussels:20260324T150000
DTSTAMP:20260420T091644
CREATED:20260203T130320Z
LAST-MODIFIED:20260203T130410Z
UID:10000124-1774357200-1774364400@agrinnovators.org
SUMMARY:Financing African Agrifood Entrepreneurs: Strategies to access investment
DESCRIPTION:PAFO-COLEAD Innovations Series n°26 \nTopic: Financing African Agrifood Entrepreneurs: Strategies to access investment \nDate: Tuesday 24 March 2026 – 12:00-14:00 UTC / 13:00-15:00 CET – online (Zoom) \nRegistration: https://coleacp-org.zoom.us/webinar/register/WN_NpMsZdNbT-ycG5NRpmnhDg 
URL:https://agrinnovators.org/event/financing-african-agrifood-entrepreneurs-strategies-to-access-investment/
ATTACH;FMTTYPE=image/jpeg:https://agrinnovators.org/wp-content/uploads/2025/10/PAFO-COLEAD-Innovation-Series-BANNER.jpg
END:VEVENT
BEGIN:VEVENT
DTSTART;TZID=Europe/Brussels:20260331T160000
DTEND;TZID=Europe/Brussels:20260331T180000
DTSTAMP:20260420T091644
CREATED:20260203T082039Z
LAST-MODIFIED:20260209T080609Z
UID:10000123-1774972800-1774980000@agrinnovators.org
SUMMARY:Financing Caribbean agrifood entrepreneurs: strategies to access investment
DESCRIPTION:IICA-COLEAD Caribbean Agrifood Business Session n°20 \nTopic: Financing Caribbean agrifood entrepreneurs: strategies to access investment \nDate: Tuesday 31 March 2026 – 16:00 – 18:00 CET – online (Zoom) \nRegistration: https://coleacp-org.zoom.us/webinar/register/WN_TZEB0O9rQFuVIhhWUjfU9A#/registration 
URL:https://agrinnovators.org/event/financing-caribbean-agrifood-entrepreneurs-strategies-to-access-investment/
ATTACH;FMTTYPE=image/jpeg:https://agrinnovators.org/wp-content/uploads/2026/02/ICCA-COLEAD-Branding.jpg
END:VEVENT
END:VCALENDAR